BEGIN:VCALENDAR
VERSION:2.0
PRODID:-//Matti per gli Scacchi ASD Palermo - ECPv6.15.11//NONSGML v1.0//EN
CALSCALE:GREGORIAN
METHOD:PUBLISH
X-ORIGINAL-URL:https://mattipergliscacchi.it
X-WR-CALDESC:Eventi per Matti per gli Scacchi ASD Palermo
REFRESH-INTERVAL;VALUE=DURATION:PT1H
X-Robots-Tag:noindex
X-PUBLISHED-TTL:PT1H
BEGIN:VTIMEZONE
TZID:Europe/Rome
BEGIN:DAYLIGHT
TZOFFSETFROM:+0100
TZOFFSETTO:+0200
TZNAME:CEST
DTSTART:20230326T010000
END:DAYLIGHT
BEGIN:STANDARD
TZOFFSETFROM:+0200
TZOFFSETTO:+0100
TZNAME:CET
DTSTART:20231029T010000
END:STANDARD
BEGIN:DAYLIGHT
TZOFFSETFROM:+0100
TZOFFSETTO:+0200
TZNAME:CEST
DTSTART:20240331T010000
END:DAYLIGHT
BEGIN:STANDARD
TZOFFSETFROM:+0200
TZOFFSETTO:+0100
TZNAME:CET
DTSTART:20241027T010000
END:STANDARD
BEGIN:DAYLIGHT
TZOFFSETFROM:+0100
TZOFFSETTO:+0200
TZNAME:CEST
DTSTART:20250330T010000
END:DAYLIGHT
BEGIN:STANDARD
TZOFFSETFROM:+0200
TZOFFSETTO:+0100
TZNAME:CET
DTSTART:20251026T010000
END:STANDARD
END:VTIMEZONE
BEGIN:VEVENT
DTSTART;TZID=Europe/Rome:20241202T180000
DTEND;TZID=Europe/Rome:20241202T180000
DTSTAMP:20260419T173551
CREATED:20241123T114712Z
LAST-MODIFIED:20241123T114712Z
UID:1680-1733162400-1733162400@mattipergliscacchi.it
SUMMARY:3° Torneo Training "Alleniamoci insieme"
DESCRIPTION:5 turni di gioco da 30′ + 15″ – Preiscrizione su 👉 VESUS entro il 17 novembre 2024. \nIl torneo non è valido per la variazione del punteggio ELO FIDE. \n  \n  \nTutti gli incontri si effettueranno di lunedì con cadenza settimanale. C’e comunque la possibilità\, in caso di impedimenti e prendendo accordi con l’avversario\, di giocare la partita anche durante la settimana purché venga comunicato il risultato entro il sabato pomeriggio.
URL:https://mattipergliscacchi.it/calendario/3-torneo-training-alleniamoci-insieme-3/
LOCATION:Matti per gli Scacchi ASD Palermo\, Via Alcide De Gasperi 53\, Palermo\, Palermo\, 90146\, Italy
ATTACH;FMTTYPE=image/jpeg:https://mattipergliscacchi.it/wp-content/uploads/2024/11/PHOTO-2024-11-23-09-40-37-1.jpg
ORGANIZER;CN="Matti per gli scacchi":MAILTO:segreteria@mattipergliscacchi.it
END:VEVENT
BEGIN:VEVENT
DTSTART;TZID=Europe/Rome:20241207T093000
DTEND;TZID=Europe/Rome:20241207T093000
DTSTAMP:20260419T173551
CREATED:20241123T115630Z
LAST-MODIFIED:20241123T115630Z
UID:1689-1733563800-1733563800@mattipergliscacchi.it
SUMMARY:1° Torneo U12
DESCRIPTION:🏷️ ISCRIZIONE GRATUITA PER I SOCI (5 euro per i non soci) \n  \nIl torneo è riservato agli under 12 NC. \nIl torneo non è valido per la variazione del punteggio ELO FIDE \nPreiscrizione su 👉 VESUS entro il 6 Dicembre.
URL:https://mattipergliscacchi.it/calendario/1-torneo-u12/
LOCATION:Matti per gli Scacchi ASD Palermo\, Via Alcide De Gasperi 53\, Palermo\, Palermo\, 90146\, Italy
ATTACH;FMTTYPE=image/jpeg:https://mattipergliscacchi.it/wp-content/uploads/2024/11/PHOTO-2024-11-23-09-41-08.jpg
END:VEVENT
BEGIN:VEVENT
DTSTART;TZID=Europe/Rome:20241209T180000
DTEND;TZID=Europe/Rome:20241209T180000
DTSTAMP:20260419T173551
CREATED:20241123T114733Z
LAST-MODIFIED:20241123T114733Z
UID:1682-1733767200-1733767200@mattipergliscacchi.it
SUMMARY:3° Torneo Training "Alleniamoci insieme"
DESCRIPTION:5 turni di gioco da 30′ + 15″ – Preiscrizione su 👉 VESUS entro il 17 novembre 2024. \nIl torneo non è valido per la variazione del punteggio ELO FIDE. \n  \n  \nTutti gli incontri si effettueranno di lunedì con cadenza settimanale. C’e comunque la possibilità\, in caso di impedimenti e prendendo accordi con l’avversario\, di giocare la partita anche durante la settimana purché venga comunicato il risultato entro il sabato pomeriggio.
URL:https://mattipergliscacchi.it/calendario/3-torneo-training-alleniamoci-insieme-4/
LOCATION:Matti per gli Scacchi ASD Palermo\, Via Alcide De Gasperi 53\, Palermo\, Palermo\, 90146\, Italy
ATTACH;FMTTYPE=image/jpeg:https://mattipergliscacchi.it/wp-content/uploads/2024/11/PHOTO-2024-11-23-09-40-37-1.jpg
ORGANIZER;CN="Matti per gli scacchi":MAILTO:segreteria@mattipergliscacchi.it
END:VEVENT
BEGIN:VEVENT
DTSTART;VALUE=DATE:20241213
DTEND;VALUE=DATE:20241216
DTSTAMP:20260419T173551
CREATED:20241123T120100Z
LAST-MODIFIED:20241123T120100Z
UID:1695-1734048000-1734307199@mattipergliscacchi.it
SUMMARY:5° Week-End Matti per gli Scacchi
DESCRIPTION:Torneo valido per le variazioni Elo Fide Standard. Obbligatorio il tesseramento FSI 2024. \nPreiscrizioni tramite 👉 VESUS entro l’11 dicembre 2024.
URL:https://mattipergliscacchi.it/calendario/5-week-end-matti-per-gli-scacchi/
LOCATION:Matti per gli Scacchi ASD Palermo\, Via Alcide De Gasperi 53\, Palermo\, Palermo\, 90146\, Italy
ATTACH;FMTTYPE=image/jpeg:https://mattipergliscacchi.it/wp-content/uploads/2024/11/PHOTO-2024-11-23-09-41-09.jpg
END:VEVENT
BEGIN:VEVENT
DTSTART;TZID=Europe/Rome:20241216T180000
DTEND;TZID=Europe/Rome:20241216T180000
DTSTAMP:20260419T173551
CREATED:20241123T114755Z
LAST-MODIFIED:20241123T114755Z
UID:1684-1734372000-1734372000@mattipergliscacchi.it
SUMMARY:3° Torneo Training "Alleniamoci insieme"
DESCRIPTION:5 turni di gioco da 30′ + 15″ – Preiscrizione su 👉 VESUS entro il 17 novembre 2024. \nIl torneo non è valido per la variazione del punteggio ELO FIDE. \n  \n  \nTutti gli incontri si effettueranno di lunedì con cadenza settimanale. C’e comunque la possibilità\, in caso di impedimenti e prendendo accordi con l’avversario\, di giocare la partita anche durante la settimana purché venga comunicato il risultato entro il sabato pomeriggio.
URL:https://mattipergliscacchi.it/calendario/3-torneo-training-alleniamoci-insieme-5/
LOCATION:Matti per gli Scacchi ASD Palermo\, Via Alcide De Gasperi 53\, Palermo\, Palermo\, 90146\, Italy
ATTACH;FMTTYPE=image/jpeg:https://mattipergliscacchi.it/wp-content/uploads/2024/11/PHOTO-2024-11-23-09-40-37-1.jpg
ORGANIZER;CN="Matti per gli scacchi":MAILTO:segreteria@mattipergliscacchi.it
END:VEVENT
BEGIN:VEVENT
DTSTART;VALUE=DATE:20241218
DTEND;VALUE=DATE:20241220
DTSTAMP:20260419T173551
CREATED:20241209T164934Z
LAST-MODIFIED:20241209T164934Z
UID:1720-1734480000-1734652799@mattipergliscacchi.it
SUMMARY:Palermo Job Connect
DESCRIPTION:
URL:https://mattipergliscacchi.it/calendario/palermo-job-connect/
LOCATION:Cantieri Culturali alla Zisa\, Cantieri Culturali alla Zisa\, Palermo\, 90146\, Italy
ATTACH;FMTTYPE=application/pdf:https://mattipergliscacchi.it/wp-content/uploads/2024/12/Palermo-Job-Connect-4.pdf
END:VEVENT
BEGIN:VEVENT
DTSTART;TZID=Europe/Rome:20241229T153000
DTEND;TZID=Europe/Rome:20241229T153000
DTSTAMP:20260419T173551
CREATED:20241123T121242Z
LAST-MODIFIED:20241123T121242Z
UID:1703-1735486200-1735486200@mattipergliscacchi.it
SUMMARY:Rapid FIDE Goodbye 2024
DESCRIPTION:Obbligatoria preiscrizione su 👉 VESUS
URL:https://mattipergliscacchi.it/calendario/rapid-fide-goodbye-2024/
LOCATION:Matti per gli Scacchi ASD Palermo\, Via Alcide De Gasperi 53\, Palermo\, Palermo\, 90146\, Italy
ATTACH;FMTTYPE=image/jpeg:https://mattipergliscacchi.it/wp-content/uploads/2024/11/PHOTO-2024-11-23-09-43-45.jpg
END:VEVENT
END:VCALENDAR