BEGIN:VCALENDAR
VERSION:2.0
PRODID:-//Matti per gli Scacchi ASD Palermo - ECPv6.15.11//NONSGML v1.0//EN
CALSCALE:GREGORIAN
METHOD:PUBLISH
X-WR-CALNAME:Matti per gli Scacchi ASD Palermo
X-ORIGINAL-URL:https://mattipergliscacchi.it
X-WR-CALDESC:Eventi per Matti per gli Scacchi ASD Palermo
REFRESH-INTERVAL;VALUE=DURATION:PT1H
X-Robots-Tag:noindex
X-PUBLISHED-TTL:PT1H
BEGIN:VTIMEZONE
TZID:Europe/Rome
BEGIN:DAYLIGHT
TZOFFSETFROM:+0100
TZOFFSETTO:+0200
TZNAME:CEST
DTSTART:20210328T010000
END:DAYLIGHT
BEGIN:STANDARD
TZOFFSETFROM:+0200
TZOFFSETTO:+0100
TZNAME:CET
DTSTART:20211031T010000
END:STANDARD
BEGIN:DAYLIGHT
TZOFFSETFROM:+0100
TZOFFSETTO:+0200
TZNAME:CEST
DTSTART:20220327T010000
END:DAYLIGHT
BEGIN:STANDARD
TZOFFSETFROM:+0200
TZOFFSETTO:+0100
TZNAME:CET
DTSTART:20221030T010000
END:STANDARD
BEGIN:DAYLIGHT
TZOFFSETFROM:+0100
TZOFFSETTO:+0200
TZNAME:CEST
DTSTART:20230326T010000
END:DAYLIGHT
BEGIN:STANDARD
TZOFFSETFROM:+0200
TZOFFSETTO:+0100
TZNAME:CET
DTSTART:20231029T010000
END:STANDARD
END:VTIMEZONE
BEGIN:VEVENT
DTSTART;TZID=Europe/Rome:20221203T103000
DTEND;TZID=Europe/Rome:20221203T170000
DTSTAMP:20260423T135925
CREATED:20230619T031031Z
LAST-MODIFIED:20230627T031345Z
UID:1006-1670063400-1670086800@mattipergliscacchi.it
SUMMARY:Giochiamo insieme
DESCRIPTION:Un pomeriggio dedicato al gioco presso gli spazi “Condividendo” di Turismosicilia\, Ente di promozione sociale.\n Scacchi\, manga\, favole\, giochi di società e merenda per tutti i partecipanti.\n\n\nPer informazioni:\n Matti per gli scacchi\, Associazione Sportiva Dilettantistica\n Via A. De Gasperi\, 53 – 90146 Palermo PA\n +39 338 153 5602\n segreteria@mattipergliscacchi.it
URL:https://mattipergliscacchi.it/calendario/giochiamo-insieme-2/
LOCATION:Matti per gli Scacchi ASD Palermo\, Via Alcide De Gasperi 53\, Palermo\, Palermo\, 90146\, Italy
ATTACH;FMTTYPE=image/jpeg:https://mattipergliscacchi.it/wp-content/uploads/2023/06/Scacchi_copertina_giochiamo.jpg
END:VEVENT
BEGIN:VEVENT
DTSTART;TZID=Europe/Rome:20221203T103000
DTEND;TZID=Europe/Rome:20221203T170000
DTSTAMP:20260423T135925
CREATED:20230424T083055Z
LAST-MODIFIED:20230424T083412Z
UID:582-1670063400-1670086800@mattipergliscacchi.it
SUMMARY:Giochiamo insieme
DESCRIPTION:Una giornata dedicata al gioco sabato 3 dicembre 2022 presso gli spazi “Condividendo” di Turismosicilia\, Ente di promozione sociale.\n Di seguito i programma realizzato in collaborazione con Matti per gli scacchi\, Associazione sportiva dilettantistica di scacchi:\n10:30 – Corso di scacchi\n10:30 – Percorso Manga\n15:30 – Torneo di scacchi\n16:00 – Lettura della favola “Il piccolo Cavaliere del Re degli Scacchi” di Carlo Alberto Cavazzoni con accompagnamento musicale\n16:00 – giochi di società e consultazione libera della biblioteca\n17:30 – Golosa merenda per tutti i partecipanti\n19:30 – Premiazione del torneo\nLa partecipazione a tutte le attività è gratuita.\nPrenota una lezione gratuita di manga o scacchi!\nContributo per il torneo: €8\,00\nPer partecipare al torneo occorre effettuare la pre-iscrizione compilando il form presente in questo link \nhttps://vesus.org/…/torneo-inaugurale-quotmatti-per…/\n\nPer informazioni:\n Matti per gli scacchi\, Associazione Sportiva Dilettantistica\n Via A. De Gasperi\, 53 – 90146 Palermo PA\n +39 338 153 5602\n segreteria@mattipergliscacchi.it
URL:https://mattipergliscacchi.it/calendario/giochiamo-insieme/
LOCATION:Matti per gli Scacchi ASD Palermo\, Via Alcide De Gasperi 53\, Palermo\, Palermo\, 90146\, Italy
ATTACH;FMTTYPE=image/jpeg:https://mattipergliscacchi.it/wp-content/uploads/2023/04/giochiamo_ins.jpg
END:VEVENT
BEGIN:VEVENT
DTSTART;TZID=Europe/Rome:20221028T170000
DTEND;TZID=Europe/Rome:20221028T210000
DTSTAMP:20260423T135925
CREATED:20230424T083251Z
LAST-MODIFIED:20230424T083251Z
UID:585-1666976400-1666990800@mattipergliscacchi.it
SUMMARY:Torneo di Halloween
DESCRIPTION: 28 ottobre 2022\, alle ore 17:00\n Torneo di Halloween!\nTorneo di scacchi e merenda\, partecipa anche tu! Dolcetto o scherzetto?\nTorneo amatoriale aperto a tutti: appassionati\, principianti o professionisti\, tesserati o non.\nIl torneo si svolge con la presenza di un arbitro federale FSI ma non è valido per la variazione del punteggio Elo FIDE.\n– 5 Turni di gioco da 15 minuti\,\n– Premi per tutti i partecipanti\n– Trofeo per: il 1°\, il 2° e il 3° classificato\, primo under 10 e prima under 10\n Contributo: €6\nPer iscrizioni \nhttps://vesus.org/tournaments/torneo-di-halloween/\nPer informazioni:\nMatti per gli scacchi\, Associazione Sportiva Dilettantistica\n +39 338 153 5602\n info@mattipergliscacchi.it
URL:https://mattipergliscacchi.it/calendario/torneo-di-halloween/
LOCATION:Matti per gli Scacchi ASD Palermo\, Via Alcide De Gasperi 53\, Palermo\, Palermo\, 90146\, Italy
ATTACH;FMTTYPE=image/jpeg:https://mattipergliscacchi.it/wp-content/uploads/2023/04/hallow.jpg
END:VEVENT
BEGIN:VEVENT
DTSTART;TZID=Europe/Rome:20220925T170000
DTEND;TZID=Europe/Rome:20220925T200000
DTSTAMP:20260423T135925
CREATED:20230424T083601Z
LAST-MODIFIED:20230424T083659Z
UID:590-1664125200-1664136000@mattipergliscacchi.it
SUMMARY:Open Day Matti per gli scacchi
DESCRIPTION: Open day di Matti per gli scacchi!\n 25 settembre 2022\, dalle 17:00 alle 19:00\n online e in presenza\nVia Alcide De Gasperi\, 53 – 90146 Palermo\nUn pomeriggio all’insegna di tante attività insieme al nostro team.\nVieni a trovarci ed entra nel mondo degli scacchi! Mettersi in gioco è un’esperienza che non finisce mai di stupire.\nPer informazioni:\nMatti per gli scacchi\, Associazione Sportiva Dilettantistica\n +39 342 730 6029\n Mail: info@mattipergliscacchi.it
URL:https://mattipergliscacchi.it/calendario/open-day-matti-per-gli-scacchi/
LOCATION:Matti per gli Scacchi ASD Palermo\, Via Alcide De Gasperi 53\, Palermo\, Palermo\, 90146\, Italy
END:VEVENT
END:VCALENDAR