BEGIN:VCALENDAR
VERSION:2.0
PRODID:-//Matti per gli Scacchi ASD Palermo - ECPv6.15.11//NONSGML v1.0//EN
CALSCALE:GREGORIAN
METHOD:PUBLISH
X-ORIGINAL-URL:https://mattipergliscacchi.it
X-WR-CALDESC:Eventi per Matti per gli Scacchi ASD Palermo
REFRESH-INTERVAL;VALUE=DURATION:PT1H
X-Robots-Tag:noindex
X-PUBLISHED-TTL:PT1H
BEGIN:VTIMEZONE
TZID:Europe/Rome
BEGIN:DAYLIGHT
TZOFFSETFROM:+0100
TZOFFSETTO:+0200
TZNAME:CEST
DTSTART:20250330T010000
END:DAYLIGHT
BEGIN:STANDARD
TZOFFSETFROM:+0200
TZOFFSETTO:+0100
TZNAME:CET
DTSTART:20251026T010000
END:STANDARD
BEGIN:DAYLIGHT
TZOFFSETFROM:+0100
TZOFFSETTO:+0200
TZNAME:CEST
DTSTART:20260329T010000
END:DAYLIGHT
BEGIN:STANDARD
TZOFFSETFROM:+0200
TZOFFSETTO:+0100
TZNAME:CET
DTSTART:20261025T010000
END:STANDARD
BEGIN:DAYLIGHT
TZOFFSETFROM:+0100
TZOFFSETTO:+0200
TZNAME:CEST
DTSTART:20270328T010000
END:DAYLIGHT
BEGIN:STANDARD
TZOFFSETFROM:+0200
TZOFFSETTO:+0100
TZNAME:CET
DTSTART:20271031T010000
END:STANDARD
END:VTIMEZONE
BEGIN:VEVENT
DTSTART;VALUE=DATE:20260314
DTEND;VALUE=DATE:20260315
DTSTAMP:20260419T175828
CREATED:20260302T210444Z
LAST-MODIFIED:20260302T210444Z
UID:2503-1773446400-1773532799@mattipergliscacchi.it
SUMMARY:TORNEO GIOVANILE LICEALI MATTI
DESCRIPTION:LINK VESUS
URL:https://mattipergliscacchi.it/calendario/torneo-giovanile-liceali-matti/
LOCATION:PA
ATTACH;FMTTYPE=image/jpeg:https://mattipergliscacchi.it/wp-content/uploads/2026/03/torneo-giovanile-liceali-Matti.jpeg
END:VEVENT
BEGIN:VEVENT
DTSTART;TZID=Europe/Rome:20260320T160000
DTEND;TZID=Europe/Rome:20260322T160000
DTSTAMP:20260419T175828
CREATED:20260204T202403Z
LAST-MODIFIED:20260204T202624Z
UID:2463-1774022400-1774195200@mattipergliscacchi.it
SUMMARY:CONCENTRAMENTO CIS SICILIA 2026
DESCRIPTION:CONCENTRAMENTO CIS SICILIA 2026\nSERIE A2\, B\, C e PROMOZIONE\n20-21-22 MARZO 2026\nbando concentramento CIS Sicilia 2026\nPER SCARICARE IL DOCUMENTO IN PDF CLICCA QUI
URL:https://mattipergliscacchi.it/calendario/concentramento-cis-sicilia-2026/
LOCATION:Athena Resort ****\, SP 14 Castiglione-Scoglitti\, 97100 Ragusa\, Ragusa\, Italy
ATTACH;FMTTYPE=image/png:https://mattipergliscacchi.it/wp-content/uploads/2026/02/CONCENTRAMENTO-CIS-SICILIA-2026.png
END:VEVENT
BEGIN:VEVENT
DTSTART;VALUE=DATE:20260321
DTEND;VALUE=DATE:20260322
DTSTAMP:20260419T175828
CREATED:20260204T203400Z
LAST-MODIFIED:20260204T203400Z
UID:2468-1774051200-1774137599@mattipergliscacchi.it
SUMMARY:15° campionato regionale
DESCRIPTION:Athena Resort – Scoglitti\nBLITZ\nbando lampo regionale 2026\nSCARICA PDF QUI
URL:https://mattipergliscacchi.it/calendario/15-campionato-regionale/
LOCATION:PA
ATTACH;FMTTYPE=image/png:https://mattipergliscacchi.it/wp-content/uploads/2026/02/15-campionato.png
END:VEVENT
BEGIN:VEVENT
DTSTART;VALUE=DATE:20260404
DTEND;VALUE=DATE:20260405
DTSTAMP:20260419T175828
CREATED:20260324T170555Z
LAST-MODIFIED:20260324T170555Z
UID:2522-1775260800-1775347199@mattipergliscacchi.it
SUMMARY:12° RAPID FIRE
DESCRIPTION:
URL:https://mattipergliscacchi.it/calendario/12-rapid-fire/
LOCATION:Matti per gli Scacchi ASD Palermo\, Via Alcide De Gasperi 53\, Palermo\, Palermo\, 90146\, Italy
ATTACH;FMTTYPE=image/jpeg:https://mattipergliscacchi.it/wp-content/uploads/2026/02/12-rapid-fide.jpeg
END:VEVENT
BEGIN:VEVENT
DTSTART;TZID=Europe/Rome:20260530T093000
DTEND;TZID=Europe/Rome:20260530T133000
DTSTAMP:20260419T175828
CREATED:20260226T214133Z
LAST-MODIFIED:20260226T214133Z
UID:2498-1780133400-1780147800@mattipergliscacchi.it
SUMMARY:TOMBOLA ROTONDA
DESCRIPTION:
URL:https://mattipergliscacchi.it/calendario/tombola-rotonda/
LOCATION:Piazza Sant’anna n. 3\, Piazza Sant'anna\, 3\, Palermo\, Italy
ATTACH;FMTTYPE=image/jpeg:https://mattipergliscacchi.it/wp-content/uploads/2026/02/TOMBOLA.jpeg
END:VEVENT
END:VCALENDAR