BEGIN:VCALENDAR
VERSION:2.0
PRODID:-//Matti per gli Scacchi ASD Palermo - ECPv6.15.11//NONSGML v1.0//EN
CALSCALE:GREGORIAN
METHOD:PUBLISH
X-WR-CALNAME:Matti per gli Scacchi ASD Palermo
X-ORIGINAL-URL:https://mattipergliscacchi.it
X-WR-CALDESC:Eventi per Matti per gli Scacchi ASD Palermo
REFRESH-INTERVAL;VALUE=DURATION:PT1H
X-Robots-Tag:noindex
X-PUBLISHED-TTL:PT1H
BEGIN:VTIMEZONE
TZID:Europe/Rome
BEGIN:DAYLIGHT
TZOFFSETFROM:+0100
TZOFFSETTO:+0200
TZNAME:CEST
DTSTART:20220327T010000
END:DAYLIGHT
BEGIN:STANDARD
TZOFFSETFROM:+0200
TZOFFSETTO:+0100
TZNAME:CET
DTSTART:20221030T010000
END:STANDARD
BEGIN:DAYLIGHT
TZOFFSETFROM:+0100
TZOFFSETTO:+0200
TZNAME:CEST
DTSTART:20230326T010000
END:DAYLIGHT
BEGIN:STANDARD
TZOFFSETFROM:+0200
TZOFFSETTO:+0100
TZNAME:CET
DTSTART:20231029T010000
END:STANDARD
BEGIN:DAYLIGHT
TZOFFSETFROM:+0100
TZOFFSETTO:+0200
TZNAME:CEST
DTSTART:20240331T010000
END:DAYLIGHT
BEGIN:STANDARD
TZOFFSETFROM:+0200
TZOFFSETTO:+0100
TZNAME:CET
DTSTART:20241027T010000
END:STANDARD
BEGIN:DAYLIGHT
TZOFFSETFROM:+0100
TZOFFSETTO:+0200
TZNAME:CEST
DTSTART:20250330T010000
END:DAYLIGHT
BEGIN:STANDARD
TZOFFSETFROM:+0200
TZOFFSETTO:+0100
TZNAME:CET
DTSTART:20251026T010000
END:STANDARD
END:VTIMEZONE
BEGIN:VEVENT
DTSTART;TZID=Europe/Rome:20240924T173000
DTEND;TZID=Europe/Rome:20240924T173000
DTSTAMP:20260419T163806
CREATED:20240912T145335Z
LAST-MODIFIED:20240912T145335Z
UID:1641-1727199000-1727199000@mattipergliscacchi.it
SUMMARY:Open Day
DESCRIPTION:
URL:https://mattipergliscacchi.it/calendario/open-day/
LOCATION:Matti per gli Scacchi ASD Palermo\, Via Alcide De Gasperi 53\, Palermo\, Palermo\, 90146\, Italy
ATTACH;FMTTYPE=image/jpeg:https://mattipergliscacchi.it/wp-content/uploads/2024/09/WhatsApp-Image-2024-09-12-at-15.26.10.jpeg
ORGANIZER;CN="Matti per gli scacchi":MAILTO:segreteria@mattipergliscacchi.it
END:VEVENT
BEGIN:VEVENT
DTSTART;VALUE=DATE:20240730
DTEND;VALUE=DATE:20240807
DTSTAMP:20260419T163806
CREATED:20240424T081413Z
LAST-MODIFIED:20240424T083518Z
UID:1453-1722297600-1722988799@mattipergliscacchi.it
SUMMARY:TRINAKRIA: 1º Festival Scacchistico Internazione
DESCRIPTION:👉 Per maggiori informazioni clicca qui.
URL:https://mattipergliscacchi.it/calendario/trinakria-1/
LOCATION:Zeta Club Selinunte – Marinella di Selinunte (TP)\, Contrada Belice Mare\, Castelvetrano (TP)\, Trapani\, Italia
ATTACH;FMTTYPE=image/jpeg:https://mattipergliscacchi.it/wp-content/uploads/2024/04/IMG_6275.jpeg
END:VEVENT
BEGIN:VEVENT
DTSTART;TZID=Europe/Rome:20240728T103000
DTEND;TZID=Europe/Rome:20240728T180000
DTSTAMP:20260419T163806
CREATED:20240805T205623Z
LAST-MODIFIED:20240805T205623Z
UID:1524-1722162600-1722189600@mattipergliscacchi.it
SUMMARY:Ottavo torneo scacchi dello Jato
DESCRIPTION:
URL:https://mattipergliscacchi.it/calendario/ottavo-torneo-scacchi-dello-jato/
LOCATION:Centro Polifunzionale Via Roma – San Cipirrello (PA)
ATTACH;FMTTYPE=image/jpeg:https://mattipergliscacchi.it/wp-content/uploads/2024/08/450527527_448818287974687_3855807126752228952_n.jpg
ORGANIZER;CN="Matti per gli scacchi":MAILTO:segreteria@mattipergliscacchi.it
END:VEVENT
BEGIN:VEVENT
DTSTART;TZID=Europe/Rome:20240621T200000
DTEND;TZID=Europe/Rome:20240621T200000
DTSTAMP:20260419T163806
CREATED:20240607T162944Z
LAST-MODIFIED:20240607T163025Z
UID:1507-1719000000-1719000000@mattipergliscacchi.it
SUMMARY:Prevenzione e cura di patologie alla colonna vertebrale - Matti per gli scacchi X Ipoh
DESCRIPTION:PROGRAMMA \n\nEvento medico\ninformativo\nSorpresa molto speciale da condividere con voi\nApericena per tutti i partecipanti\n\n  \nL’evento terminerà con l’estrazione di un omaggio offerto dalla Ipoh. \nL’invito è rivolto alla coppia ed è gradita conferma. \n  \nGarantendo la vostra presenza\, riceveremo inoltre un contributo che servirà a “sostenere le spese del festival scacchistico internazionale
URL:https://mattipergliscacchi.it/calendario/prevenzione-e-cura-di-patologie-alla-colonna-vertebrale-matti-per-gli-scacchi-x-ipoh/
LOCATION:Matti per gli Scacchi ASD Palermo\, Via Alcide De Gasperi 53\, Palermo\, Palermo\, 90146\, Italy
ATTACH;FMTTYPE=image/jpeg:https://mattipergliscacchi.it/wp-content/uploads/2024/06/WhatsApp-Image-2024-06-07-at-16.10.45.jpeg
END:VEVENT
BEGIN:VEVENT
DTSTART;TZID=Europe/Rome:20240608T103000
DTEND;TZID=Europe/Rome:20240608T103000
DTSTAMP:20260419T163806
CREATED:20240607T162306Z
LAST-MODIFIED:20240607T162306Z
UID:1500-1717842600-1717842600@mattipergliscacchi.it
SUMMARY:TORNEO "Benvenuta Estate"
DESCRIPTION:5€ per i non partecipanti ai corsi “Matti per gli scacchi”\nGRATIS per i partecipanti ai corsi
URL:https://mattipergliscacchi.it/calendario/torneo-benvenuta-estate/
LOCATION:Matti per gli Scacchi ASD Palermo\, Via Alcide De Gasperi 53\, Palermo\, Palermo\, 90146\, Italy
ATTACH;FMTTYPE=image/jpeg:https://mattipergliscacchi.it/wp-content/uploads/2024/06/WhatsApp-Image-2024-06-07-at-09.31.08.jpeg
ORGANIZER;CN="Matti per gli scacchi":MAILTO:segreteria@mattipergliscacchi.it
END:VEVENT
BEGIN:VEVENT
DTSTART;VALUE=DATE:20240607
DTEND;VALUE=DATE:20240610
DTSTAMP:20260419T163806
CREATED:20240516T145500Z
LAST-MODIFIED:20240516T145500Z
UID:1483-1717718400-1717977599@mattipergliscacchi.it
SUMMARY:4° Torneo Week-End
DESCRIPTION:
URL:https://mattipergliscacchi.it/calendario/4-torneo-week-end/
LOCATION:Matti per gli Scacchi ASD Palermo\, Via Alcide De Gasperi 53\, Palermo\, Palermo\, 90146\, Italy
ATTACH;FMTTYPE=image/jpeg:https://mattipergliscacchi.it/wp-content/uploads/2024/05/WhatsApp-Image-2024-05-14-at-08.50.29-1.jpeg
ORGANIZER;CN="Matti per gli scacchi":MAILTO:segreteria@mattipergliscacchi.it
END:VEVENT
BEGIN:VEVENT
DTSTART;VALUE=DATE:20240601
DTEND;VALUE=DATE:20240603
DTSTAMP:20260419T163806
CREATED:20240607T163532Z
LAST-MODIFIED:20240607T163532Z
UID:1514-1717200000-1717372799@mattipergliscacchi.it
SUMMARY:Finale Hybrid Campionati Italiani Online BLITZ e RAPID
DESCRIPTION:
URL:https://mattipergliscacchi.it/calendario/finale-hybrid-campionati-italiani-online-blitz-e-rapid/
LOCATION:Hotel Villa Amato – Palermo
ATTACH;FMTTYPE=image/jpeg:https://mattipergliscacchi.it/wp-content/uploads/2024/06/WhatsApp-Image-2024-06-07-at-09.31.54.jpeg
END:VEVENT
BEGIN:VEVENT
DTSTART;TZID=Europe/Rome:20240525T180000
DTEND;TZID=Europe/Rome:20240525T180000
DTSTAMP:20260419T163806
CREATED:20240516T145012Z
LAST-MODIFIED:20240516T145012Z
UID:1476-1716660000-1716660000@mattipergliscacchi.it
SUMMARY:Presentazione romanzo "Come un fico d'india"
DESCRIPTION:A cura della Dott.ssa Angelica Tantillo
URL:https://mattipergliscacchi.it/calendario/presentazione-romanzo-come-un-fico-dindia/
LOCATION:Matti per gli Scacchi ASD Palermo\, Via Alcide De Gasperi 53\, Palermo\, Palermo\, 90146\, Italy
ATTACH;FMTTYPE=image/jpeg:https://mattipergliscacchi.it/wp-content/uploads/2024/05/WhatsApp-Image-2024-05-14-at-08.50.29.jpeg
END:VEVENT
BEGIN:VEVENT
DTSTART;TZID=Europe/Rome:20240524T163000
DTEND;TZID=Europe/Rome:20240524T163000
DTSTAMP:20260419T163806
CREATED:20240516T145305Z
LAST-MODIFIED:20240516T145305Z
UID:1479-1716568200-1716568200@mattipergliscacchi.it
SUMMARY:1° Torneo I.C.S. E. Armaforte
DESCRIPTION:
URL:https://mattipergliscacchi.it/calendario/1-torneo-i-c-s-e-armaforte/
LOCATION:I.C.S. E. Armaforte\, Via Santamura 11\, Altofonte\, Palermo\, 90030\, Italia
ATTACH;FMTTYPE=image/jpeg:https://mattipergliscacchi.it/wp-content/uploads/2024/05/WhatsApp-Image-2024-05-14-at-08.50.29-2.jpeg
ORGANIZER;CN="Matti per gli scacchi":MAILTO:segreteria@mattipergliscacchi.it
END:VEVENT
BEGIN:VEVENT
DTSTART;TZID=Europe/Rome:20240424T150000
DTEND;TZID=Europe/Rome:20240424T200000
DTSTAMP:20260419T163806
CREATED:20240516T144758Z
LAST-MODIFIED:20240516T144758Z
UID:1472-1713970800-1713988800@mattipergliscacchi.it
SUMMARY:1° Torneo Galilei
DESCRIPTION:
URL:https://mattipergliscacchi.it/calendario/1-torneo-galilei/
LOCATION:Liceo Scientifico Galileo Galilei\, Via Danimarca 54\, Palermo\, PA\, 90146\, Italia
ATTACH;FMTTYPE=image/jpeg:https://mattipergliscacchi.it/wp-content/uploads/2024/05/WhatsApp-Image-2024-05-14-at-17.18.37.jpeg
ORGANIZER;CN="Matti per gli scacchi":MAILTO:segreteria@mattipergliscacchi.it
END:VEVENT
BEGIN:VEVENT
DTSTART;TZID=Europe/Rome:20240413T153000
DTEND;TZID=Europe/Rome:20240413T200000
DTSTAMP:20260419T163806
CREATED:20240415T101554Z
LAST-MODIFIED:20240415T101554Z
UID:1446-1713022200-1713038400@mattipergliscacchi.it
SUMMARY:Torneo 5° Rapid FIDE
DESCRIPTION:👉  Controlla qui per ulteriori informazioni.
URL:https://mattipergliscacchi.it/calendario/torneo-5-rapid-fide/
LOCATION:Matti per gli Scacchi ASD Palermo\, Via Alcide De Gasperi 53\, Palermo\, Palermo\, 90146\, Italy
ATTACH;FMTTYPE=image/jpeg:https://mattipergliscacchi.it/wp-content/uploads/2024/04/437562251_394408800082303_2321492320235440281_n.jpg
ORGANIZER;CN="Matti per gli scacchi":MAILTO:segreteria@mattipergliscacchi.it
END:VEVENT
BEGIN:VEVENT
DTSTART;TZID=Europe/Rome:20240304T180000
DTEND;TZID=Europe/Rome:20240304T200000
DTSTAMP:20260419T163806
CREATED:20240123T095748Z
LAST-MODIFIED:20240123T095748Z
UID:1412-1709575200-1709582400@mattipergliscacchi.it
SUMMARY:2° Torneo Training “Alleniamoci insieme”
DESCRIPTION:👉 Clicca qui per maggiori informazioni.
URL:https://mattipergliscacchi.it/calendario/2-torneo-training-alleniamoci-insieme-5/
LOCATION:Matti per gli Scacchi ASD Palermo\, Via Alcide De Gasperi 53\, Palermo\, Palermo\, 90146\, Italy
ATTACH;FMTTYPE=image/jpeg:https://mattipergliscacchi.it/wp-content/uploads/2024/01/390cbe9d-c392-450e-9fb8-a006f0b23bee-1.jpeg
ORGANIZER;CN="Matti per gli scacchi":MAILTO:segreteria@mattipergliscacchi.it
END:VEVENT
BEGIN:VEVENT
DTSTART;TZID=Europe/Rome:20240303T150000
DTEND;TZID=Europe/Rome:20240303T200000
DTSTAMP:20260419T163806
CREATED:20240109T200644Z
LAST-MODIFIED:20240109T201859Z
UID:1384-1709478000-1709496000@mattipergliscacchi.it
SUMMARY:Torneo Domenica 3 Marzo
DESCRIPTION:⚠️  Pre-iscrizione su VESUS OBBLIGATORIA. \n  \n🗓️ Domenica 3 Marzo 2024. \n🕖 Orario di inizio: 15:00. \n  \n👉 Clicca qui per maggiori informazioni.
URL:https://mattipergliscacchi.it/calendario/torneo-3-marzo/
LOCATION:Matti per gli Scacchi ASD Palermo\, Via Alcide De Gasperi 53\, Palermo\, Palermo\, 90146\, Italy
ATTACH;FMTTYPE=image/jpeg:https://mattipergliscacchi.it/wp-content/uploads/2024/01/416112535_338535102336340_5374455771719920940_n-2-e1704830618124.jpg
ORGANIZER;CN="Matti per gli scacchi":MAILTO:segreteria@mattipergliscacchi.it
END:VEVENT
BEGIN:VEVENT
DTSTART;TZID=Europe/Rome:20240226T180000
DTEND;TZID=Europe/Rome:20240226T200000
DTSTAMP:20260419T163806
CREATED:20240123T095719Z
LAST-MODIFIED:20240123T095719Z
UID:1411-1708970400-1708977600@mattipergliscacchi.it
SUMMARY:2° Torneo Training “Alleniamoci insieme”
DESCRIPTION:👉 Clicca qui per maggiori informazioni.
URL:https://mattipergliscacchi.it/calendario/2-torneo-training-alleniamoci-insieme-4/
LOCATION:Matti per gli Scacchi ASD Palermo\, Via Alcide De Gasperi 53\, Palermo\, Palermo\, 90146\, Italy
ATTACH;FMTTYPE=image/jpeg:https://mattipergliscacchi.it/wp-content/uploads/2024/01/390cbe9d-c392-450e-9fb8-a006f0b23bee-1.jpeg
ORGANIZER;CN="Matti per gli scacchi":MAILTO:segreteria@mattipergliscacchi.it
END:VEVENT
BEGIN:VEVENT
DTSTART;TZID=Europe/Rome:20240219T180000
DTEND;TZID=Europe/Rome:20240219T200000
DTSTAMP:20260419T163806
CREATED:20240123T095640Z
LAST-MODIFIED:20240123T095640Z
UID:1409-1708365600-1708372800@mattipergliscacchi.it
SUMMARY:2° Torneo Training “Alleniamoci insieme”
DESCRIPTION:👉 Clicca qui per maggiori informazioni.
URL:https://mattipergliscacchi.it/calendario/2-torneo-training-alleniamoci-insieme-3/
LOCATION:Matti per gli Scacchi ASD Palermo\, Via Alcide De Gasperi 53\, Palermo\, Palermo\, 90146\, Italy
ATTACH;FMTTYPE=image/jpeg:https://mattipergliscacchi.it/wp-content/uploads/2024/01/390cbe9d-c392-450e-9fb8-a006f0b23bee-1.jpeg
ORGANIZER;CN="Matti per gli scacchi":MAILTO:segreteria@mattipergliscacchi.it
END:VEVENT
BEGIN:VEVENT
DTSTART;TZID=Europe/Rome:20240212T180000
DTEND;TZID=Europe/Rome:20240212T200000
DTSTAMP:20260419T163806
CREATED:20240123T095606Z
LAST-MODIFIED:20240123T095606Z
UID:1407-1707760800-1707768000@mattipergliscacchi.it
SUMMARY:2° Torneo Training “Alleniamoci insieme”
DESCRIPTION:👉 Clicca qui per maggiori informazioni.
URL:https://mattipergliscacchi.it/calendario/2-torneo-training-alleniamoci-insieme-2/
LOCATION:Matti per gli Scacchi ASD Palermo\, Via Alcide De Gasperi 53\, Palermo\, Palermo\, 90146\, Italy
ATTACH;FMTTYPE=image/jpeg:https://mattipergliscacchi.it/wp-content/uploads/2024/01/390cbe9d-c392-450e-9fb8-a006f0b23bee-1.jpeg
ORGANIZER;CN="Matti per gli scacchi":MAILTO:segreteria@mattipergliscacchi.it
END:VEVENT
BEGIN:VEVENT
DTSTART;TZID=Europe/Rome:20240205T180000
DTEND;TZID=Europe/Rome:20240205T200000
DTSTAMP:20260419T163806
CREATED:20240123T095504Z
LAST-MODIFIED:20240123T095504Z
UID:1404-1707156000-1707163200@mattipergliscacchi.it
SUMMARY:2° Torneo Training “Alleniamoci insieme”
DESCRIPTION:👉 Clicca qui per maggiori informazioni.
URL:https://mattipergliscacchi.it/calendario/2-torneo-training-alleniamoci-insieme/
LOCATION:Matti per gli Scacchi ASD Palermo\, Via Alcide De Gasperi 53\, Palermo\, Palermo\, 90146\, Italy
ATTACH;FMTTYPE=image/jpeg:https://mattipergliscacchi.it/wp-content/uploads/2024/01/390cbe9d-c392-450e-9fb8-a006f0b23bee-1.jpeg
ORGANIZER;CN="Matti per gli scacchi":MAILTO:segreteria@mattipergliscacchi.it
END:VEVENT
BEGIN:VEVENT
DTSTART;VALUE=DATE:20240126
DTEND;VALUE=DATE:20240129
DTSTAMP:20260419T163806
CREATED:20240109T185100Z
LAST-MODIFIED:20240109T191005Z
UID:1367-1706227200-1706486399@mattipergliscacchi.it
SUMMARY:3° Torneo Weekend
DESCRIPTION:🕖 Inizio torneo ore 17:30 del 26 Gennaio 2024. \nPrezzo: \n\nOpen A: 40€ per tutti – 35€ per U14\nOpen B: 35€ per tutti – 30€ per U14\n\nChiusura accredito entro le ore 17:00 del 26 Gennaio 2024. \n  \n👉 Clicca qui per maggiori informazioni.
URL:https://mattipergliscacchi.it/calendario/3-torneo-weekend/
LOCATION:Matti per gli Scacchi ASD Palermo\, Via Alcide De Gasperi 53\, Palermo\, Palermo\, 90146\, Italy
ATTACH;FMTTYPE=image/jpeg:https://mattipergliscacchi.it/wp-content/uploads/2024/01/416043213_337266109129906_6544792175325149403_n-e1704826249490.jpg
ORGANIZER;CN="Matti per gli scacchi":MAILTO:segreteria@mattipergliscacchi.it
END:VEVENT
BEGIN:VEVENT
DTSTART;TZID=Europe/Rome:20231227T090000
DTEND;TZID=Europe/Rome:20231229T150000
DTSTAMP:20260419T163806
CREATED:20231128T211251Z
LAST-MODIFIED:20240109T183525Z
UID:1355-1703667600-1703862000@mattipergliscacchi.it
SUMMARY:Marry Christmas - Happy Mind
DESCRIPTION:Dalle ore 9:00 alle ore 15:00. \n  \nPer maggiori informazioni 👉 clicca qui!
URL:https://mattipergliscacchi.it/calendario/marry-christmas-happy-mind/
LOCATION:Matti per gli Scacchi ASD Palermo\, Via Alcide De Gasperi 53\, Palermo\, Palermo\, 90146\, Italy
ATTACH;FMTTYPE=image/jpeg:https://mattipergliscacchi.it/wp-content/uploads/2023/11/406104269_314076574782193_5936085488202420651_n-e1701204717261.jpg
ORGANIZER;CN="Matti per gli scacchi":MAILTO:segreteria@mattipergliscacchi.it
END:VEVENT
BEGIN:VEVENT
DTSTART;TZID=Europe/Rome:20231217T173000
DTEND;TZID=Europe/Rome:20231217T203000
DTSTAMP:20260419T163806
CREATED:20231117T214559Z
LAST-MODIFIED:20231117T214736Z
UID:1323-1702834200-1702845000@mattipergliscacchi.it
SUMMARY:4° Torneo Rapid
DESCRIPTION:👉 Clicca qui per maggiori informazioni.
URL:https://mattipergliscacchi.it/calendario/4-torneo-rapid/
LOCATION:Matti per gli Scacchi ASD Palermo\, Via Alcide De Gasperi 53\, Palermo\, Palermo\, 90146\, Italy
ATTACH;FMTTYPE=image/jpeg:https://mattipergliscacchi.it/wp-content/uploads/2023/11/402246557_307973232059194_4855608526700742893_n-e1700257178129.jpg
ORGANIZER;CN="Matti per gli scacchi":MAILTO:segreteria@mattipergliscacchi.it
END:VEVENT
BEGIN:VEVENT
DTSTART;TZID=Europe/Rome:20231116T183000
DTEND;TZID=Europe/Rome:20231116T200000
DTSTAMP:20260419T163806
CREATED:20231108T103256Z
LAST-MODIFIED:20231108T103256Z
UID:1300-1700159400-1700164800@mattipergliscacchi.it
SUMMARY:Corso adulti
DESCRIPTION:A partire da oggi partirà il nuovo corso per adulti tenuto da Alberto Gueci! \nVi aspettiamo 💪
URL:https://mattipergliscacchi.it/calendario/corso-adulti/
LOCATION:Matti per gli Scacchi ASD Palermo\, Via Alcide De Gasperi 53\, Palermo\, Palermo\, 90146\, Italy
ORGANIZER;CN="Matti per gli scacchi":MAILTO:segreteria@mattipergliscacchi.it
END:VEVENT
BEGIN:VEVENT
DTSTART;TZID=Europe/Rome:20231112T163000
DTEND;TZID=Europe/Rome:20231112T200000
DTSTAMP:20260419T163806
CREATED:20231105T190110Z
LAST-MODIFIED:20231117T214429Z
UID:1288-1699806600-1699819200@mattipergliscacchi.it
SUMMARY:MATTI Finali
DESCRIPTION:👉 Clicca qui per maggiori informazioni.
URL:https://mattipergliscacchi.it/calendario/matti-finali/
LOCATION:Matti per gli Scacchi ASD Palermo\, Via Alcide De Gasperi 53\, Palermo\, Palermo\, 90146\, Italy
ATTACH;FMTTYPE=image/png:https://mattipergliscacchi.it/wp-content/uploads/2023/11/400785972_305798095610041_268259684723508715_n-e1700256649882.png
ORGANIZER;CN="Matti per gli scacchi":MAILTO:segreteria@mattipergliscacchi.it
END:VEVENT
BEGIN:VEVENT
DTSTART;VALUE=DATE:20231105
DTEND;VALUE=DATE:20231106
DTSTAMP:20260419T163806
CREATED:20231008T183320Z
LAST-MODIFIED:20231008T185957Z
UID:1121-1699142400-1699228799@mattipergliscacchi.it
SUMMARY:Domenica favorita
DESCRIPTION:
URL:https://mattipergliscacchi.it/calendario/domenica-favorita-2/
LOCATION:Parco Favorita\, Palermo\, PA\, 90146\, Italia
ATTACH;FMTTYPE=image/jpeg:https://mattipergliscacchi.it/wp-content/uploads/2023/10/IMG_0012.jpeg
END:VEVENT
BEGIN:VEVENT
DTSTART;VALUE=DATE:20231029
DTEND;VALUE=DATE:20231030
DTSTAMP:20260419T163806
CREATED:20231025T161944Z
LAST-MODIFIED:20231025T161953Z
UID:1239-1698537600-1698623999@mattipergliscacchi.it
SUMMARY:Presentazione libro
DESCRIPTION:
URL:https://mattipergliscacchi.it/calendario/presentazione-libro/
LOCATION:Matti per gli Scacchi ASD Palermo\, Via Alcide De Gasperi 53\, Palermo\, Palermo\, 90146\, Italy
ORGANIZER;CN="Matti per gli scacchi":MAILTO:segreteria@mattipergliscacchi.it
END:VEVENT
BEGIN:VEVENT
DTSTART;TZID=Europe/Rome:20231028T160000
DTEND;TZID=Europe/Rome:20231028T200000
DTSTAMP:20260419T163806
CREATED:20231009T194222Z
LAST-MODIFIED:20231009T194222Z
UID:1174-1698508800-1698523200@mattipergliscacchi.it
SUMMARY:2° Toreno di Halloween
DESCRIPTION:👉 Clicca qui per leggere come partecipare.
URL:https://mattipergliscacchi.it/calendario/2-toreno-di-halloween/
LOCATION:Matti per gli Scacchi ASD Palermo\, Via Alcide De Gasperi 53\, Palermo\, Palermo\, 90146\, Italy
ORGANIZER;CN="Matti per gli scacchi":MAILTO:segreteria@mattipergliscacchi.it
END:VEVENT
BEGIN:VEVENT
DTSTART;VALUE=DATE:20231020
DTEND;VALUE=DATE:20231023
DTSTAMP:20260419T163806
CREATED:20230828T114130Z
LAST-MODIFIED:20230906T125021Z
UID:1023-1697760000-1698019199@mattipergliscacchi.it
SUMMARY:2° Torneo Weekend Matti per gli scacchi
DESCRIPTION: 2° Torneo Weekend “Matti per gli scacchi”\n 20-21-22 Ottobre 2023\n\nEvento organizzato con Lions Club Palermo Libertà che ringraziamo per il cortese supporto.\n\nOBBLIGATORIA LA TESSERA FSI 2023\n\nSede di gioco: Via Alcide De Gasperi\, 53 a Palermo\nOrario d’inizio: 17.30\nContributo d‘iscrizione: €35\,00 per tutti – €25 per U16\nObbligatoria pre-iscrizione su VESUS:\nhttps://vesus.org/tournament/xxdn6jO0?selectedTab=tournament.registration\nChiusura accredito entro le ore 17.00 di giorno 20 ottobre 2023\n\nRegolamento:\nTorneo valido per le variazioni ELO FSI/FIDE\n5 turni di gioco – tempo di riflessione: 90 minuti +30 secondi\nTempo di tolleranza 30’\nSpareggi: Bucholtz Cut 1\, Bucholtz Totale\, Incontro Diretto\, A.R.O.\n\nCalendario di gioco:\n\n20 Ottobre – 1° Turno alle ore 17.30\n21 Ottobre – 2° Turno alle ore 9.30 ; 3° Turno alle ore 15.30\n22 Ottobre – 4° Turno alle ore 9.30 ; 5° Turno alle ore 15.30 a seguire premiazione\n\n\nPremi:\n\n1°assoluto: €60 e coppa\n2°assoluto: € 50 e coppa\n3° assoluto: € 40 e coppa\n1° classificato U16/14/12/10/8: coppa
URL:https://mattipergliscacchi.it/calendario/1023/
LOCATION:Matti per gli Scacchi ASD Palermo\, Via Alcide De Gasperi 53\, Palermo\, Palermo\, 90146\, Italy
ATTACH;FMTTYPE=image/jpeg:https://mattipergliscacchi.it/wp-content/uploads/2023/08/copertina_weekend-1.jpg
ORGANIZER;CN="Matti per gli scacchi":MAILTO:segreteria@mattipergliscacchi.it
END:VEVENT
BEGIN:VEVENT
DTSTART;VALUE=DATE:20231015
DTEND;VALUE=DATE:20231016
DTSTAMP:20260419T163806
CREATED:20231008T175435Z
LAST-MODIFIED:20231008T185924Z
UID:1109-1697328000-1697414399@mattipergliscacchi.it
SUMMARY:Domenica favorita
DESCRIPTION:👉 Clicca qui per visualizzare il palinsesto del 15 Ottobre 2023 e scoprire le interessanti attività che ti aspettano!
URL:https://mattipergliscacchi.it/calendario/domenica-favorita/
LOCATION:Piano Battaglia\, Petralia Sottana\, PA\, 90027\, Italia
ATTACH;FMTTYPE=image/jpeg:https://mattipergliscacchi.it/wp-content/uploads/2023/10/IMG_0012.jpeg
ORGANIZER;CN="Matti per gli scacchi":MAILTO:segreteria@mattipergliscacchi.it
END:VEVENT
BEGIN:VEVENT
DTSTART;TZID=Europe/Rome:20230915T163000
DTEND;TZID=Europe/Rome:20230915T193000
DTSTAMP:20260419T163806
CREATED:20230814T082304Z
LAST-MODIFIED:20230906T123324Z
UID:1014-1694795400-1694806200@mattipergliscacchi.it
SUMMARY:Il 3° Torneo Rapid "Matti per gli scacchi": Gli amici veri di Luigi
DESCRIPTION:Il 3° Torneo Rapid “Matti per gli scacchi” è dedicato ad una causa davvero speciale: Gli amici veri di Luigi\, una comunità di più di cento cani messa su e gestita da Luigi Ardizzone. \nEvento in collaborazione con Lions Club Palermo Libertà che ringraziamo per il cortese supporto. \nOPEN INTEGRALE APERTO A TUTTI \nData del torneo: 15 settembre 2023\, alle ore 16:30 \nLuogo di svolgimento: Via A. De Gasperi\, 53 – Palermo\nContributo d‘iscrizione: € 12\,00 per tutti – € 10 per U16 \nObbligatoria la Tessera FSI 2023 e la pre-iscrizione su VESUS\nChiusura accredito entro le ore 16.00 del 15 settembre 2023.\nPre-iscrizione su www.vesus.org a questo link \nRegolamento:\nTorneo valido per le variazioni ELO FSI/FIDE\n6 turni di gioco – tempo di riflessione: 12 minuti +3 secondi \nPremi\n1°\, 2°\, 3° assoluto\, 1° NC\, 1° U14/12/10/più piccolo = coppa \nPer ogni partecipante € 2\,00 verranno donati a Ente Nazionale Protezione Animali (ENPA) – Sezione di Palermo:\nIT75A0306904620100000009477 con causale “Gli amici veri di Luigi”. \nPer sapere di più su questa causa\, leggi questo articolo
URL:https://mattipergliscacchi.it/calendario/il-3-torneo-rapid-matti-per-gli-scacchi-gli-amici-veri-di-luigi/
LOCATION:Matti per gli Scacchi ASD Palermo\, Via Alcide De Gasperi 53\, Palermo\, Palermo\, 90146\, Italy
ATTACH;FMTTYPE=image/jpeg:https://mattipergliscacchi.it/wp-content/uploads/2023/08/copertina_rapid-2.jpg
ORGANIZER;CN="Matti per gli scacchi":MAILTO:segreteria@mattipergliscacchi.it
END:VEVENT
BEGIN:VEVENT
DTSTART;TZID=Europe/Rome:20230626T160000
DTEND;TZID=Europe/Rome:20230626T183000
DTSTAMP:20260419T163806
CREATED:20230620T031354Z
LAST-MODIFIED:20230627T031637Z
UID:1009-1687795200-1687804200@mattipergliscacchi.it
SUMMARY:Giochiamo insieme
DESCRIPTION:Un pomeriggio dedicato al gioco presso gli spazi “Condividendo” di Turismosicilia\, Ente di promozione sociale.\n Scacchi\, manga\, favole\, giochi di società e merenda per tutti i partecipanti.\nVi aspettiamo insieme a Giulia Campobello\, la nostra insegnante dei Percorsi Manga!
URL:https://mattipergliscacchi.it/calendario/giochiamo-insieme-3/
LOCATION:Matti per gli Scacchi ASD Palermo\, Via Alcide De Gasperi 53\, Palermo\, Palermo\, 90146\, Italy
ATTACH;FMTTYPE=image/jpeg:https://mattipergliscacchi.it/wp-content/uploads/2023/06/Scacchi_copertina_giochiamo.jpg
ORGANIZER;CN="Matti per gli scacchi":MAILTO:segreteria@mattipergliscacchi.it
END:VEVENT
BEGIN:VEVENT
DTSTART;TZID=Europe/Rome:20230624T160000
DTEND;TZID=Europe/Rome:20230624T190000
DTSTAMP:20260419T163806
CREATED:20230523T101730Z
LAST-MODIFIED:20230523T102137Z
UID:922-1687622400-1687633200@mattipergliscacchi.it
SUMMARY:2° Torneo Rapid "Matti per gli scacchi"
DESCRIPTION:2° Torneo Rapid “Matti per gli scacchi”: Altofonte paese dell’acqua e dell’olio.\n\n\n 24 giugno 2023\, ore 16:00\n\n\nAttività di Matti per gli scacchi in collaborazione con Turismosicilia.\n\n\n Luogo di svolgimento: Circolo Auser di Altofontepresso la Casa del Popolo “Michele Sala” – Via S. Santamaura\, 11 – 90030 Altofonte\n\n\n Contributo d‘iscrizione: €8\,00 per tutti – €5 per U16\n\n\n Obbligatoria la Tessera FSI 2023 e la pre-iscrizione su VESUS \nhttps://vesus.org/tournament/yXUaE7gw\n\n\nChiusura accredito entro le ore 15.30 del 24 giugno 2023.\n\n\n Regolamento:\n\n\nTorneo valido per le variazioni ELO FSI/FIDE6 turni di gioco – tempo di riflessione: 12 minuti +3 secondi\n\n\n Premi:\n\n\n1° assoluto = Coppa + € 60\,00;2° assoluto = coppa + €40\,00; 3° assoluto = coppa + € 20\,001° U14/12/10/più piccolo = coppa; medaglia per tutti i partecipanti.\n\n\n Degustazione di pane con l’olio e Proclamazione della Casa del Popolo come Punto “Scacchi diffusi”.\n\n\nNon mancate all’appuntamento!\n\n\nPer informazioni:\n\n\n Matti per gli scacchi\, Associazione Sportiva Dilettantistica\n Via A. De Gasperi\, 53 – 90146 Palermo (PA)\n +39 338 153 5602\n segreteria@mattipergliscacchi.it\n www.mattipergliscacchi.it
URL:https://mattipergliscacchi.it/calendario/2-torneo-rapid-matti-per-gli-scacchi/
LOCATION:Matti per gli Scacchi ASD Palermo\, Via Alcide De Gasperi 53\, Palermo\, Palermo\, 90146\, Italy
ATTACH;FMTTYPE=image/jpeg:https://mattipergliscacchi.it/wp-content/uploads/2023/05/copertina_rapid-copia.jpg
ORGANIZER;CN="Matti per gli scacchi":MAILTO:segreteria@mattipergliscacchi.it
END:VEVENT
END:VCALENDAR