BEGIN:VCALENDAR
VERSION:2.0
PRODID:-//Matti per gli Scacchi ASD Palermo - ECPv6.15.11//NONSGML v1.0//EN
CALSCALE:GREGORIAN
METHOD:PUBLISH
X-WR-CALNAME:Matti per gli Scacchi ASD Palermo
X-ORIGINAL-URL:https://mattipergliscacchi.it
X-WR-CALDESC:Eventi per Matti per gli Scacchi ASD Palermo
REFRESH-INTERVAL;VALUE=DURATION:PT1H
X-Robots-Tag:noindex
X-PUBLISHED-TTL:PT1H
BEGIN:VTIMEZONE
TZID:Europe/Rome
BEGIN:DAYLIGHT
TZOFFSETFROM:+0100
TZOFFSETTO:+0200
TZNAME:CEST
DTSTART:20250330T010000
END:DAYLIGHT
BEGIN:STANDARD
TZOFFSETFROM:+0200
TZOFFSETTO:+0100
TZNAME:CET
DTSTART:20251026T010000
END:STANDARD
BEGIN:DAYLIGHT
TZOFFSETFROM:+0100
TZOFFSETTO:+0200
TZNAME:CEST
DTSTART:20260329T010000
END:DAYLIGHT
BEGIN:STANDARD
TZOFFSETFROM:+0200
TZOFFSETTO:+0100
TZNAME:CET
DTSTART:20261025T010000
END:STANDARD
BEGIN:DAYLIGHT
TZOFFSETFROM:+0100
TZOFFSETTO:+0200
TZNAME:CEST
DTSTART:20270328T010000
END:DAYLIGHT
BEGIN:STANDARD
TZOFFSETFROM:+0200
TZOFFSETTO:+0100
TZNAME:CET
DTSTART:20271031T010000
END:STANDARD
END:VTIMEZONE
BEGIN:VEVENT
DTSTART;VALUE=DATE:20260301
DTEND;VALUE=DATE:20260401
DTSTAMP:20260424T022946
CREATED:20260302T211234Z
LAST-MODIFIED:20260302T211234Z
UID:2513-1772323200-1775001599@mattipergliscacchi.it
SUMMARY:CORSO BASE DI ASTRONOMIA
DESCRIPTION:
URL:https://mattipergliscacchi.it/calendario/corso-base-di-astronomia/
LOCATION:Matti per gli Scacchi ASD Palermo\, Via Alcide De Gasperi 53\, Palermo\, Palermo\, 90146\, Italy
ATTACH;FMTTYPE=image/jpeg:https://mattipergliscacchi.it/wp-content/uploads/2026/03/Corso-base-di-astronave.jpeg
ORGANIZER;CN="Matti per gli scacchi":MAILTO:segreteria@mattipergliscacchi.it
END:VEVENT
BEGIN:VEVENT
DTSTART;TZID=Europe/Rome:20260320T160000
DTEND;TZID=Europe/Rome:20260322T160000
DTSTAMP:20260424T022946
CREATED:20260204T202403Z
LAST-MODIFIED:20260204T202624Z
UID:2463-1774022400-1774195200@mattipergliscacchi.it
SUMMARY:CONCENTRAMENTO CIS SICILIA 2026
DESCRIPTION:CONCENTRAMENTO CIS SICILIA 2026\nSERIE A2\, B\, C e PROMOZIONE\n20-21-22 MARZO 2026\nbando concentramento CIS Sicilia 2026\nPER SCARICARE IL DOCUMENTO IN PDF CLICCA QUI
URL:https://mattipergliscacchi.it/calendario/concentramento-cis-sicilia-2026/
LOCATION:Athena Resort ****\, SP 14 Castiglione-Scoglitti\, 97100 Ragusa\, Ragusa\, Italy
ATTACH;FMTTYPE=image/png:https://mattipergliscacchi.it/wp-content/uploads/2026/02/CONCENTRAMENTO-CIS-SICILIA-2026.png
END:VEVENT
END:VCALENDAR