BEGIN:VCALENDAR
VERSION:2.0
PRODID:-//Matti per gli Scacchi ASD Palermo - ECPv6.15.11//NONSGML v1.0//EN
CALSCALE:GREGORIAN
METHOD:PUBLISH
X-ORIGINAL-URL:https://mattipergliscacchi.it
X-WR-CALDESC:Eventi per Matti per gli Scacchi ASD Palermo
REFRESH-INTERVAL;VALUE=DURATION:PT1H
X-Robots-Tag:noindex
X-PUBLISHED-TTL:PT1H
BEGIN:VTIMEZONE
TZID:Europe/Rome
BEGIN:DAYLIGHT
TZOFFSETFROM:+0100
TZOFFSETTO:+0200
TZNAME:CEST
DTSTART:20240331T010000
END:DAYLIGHT
BEGIN:STANDARD
TZOFFSETFROM:+0200
TZOFFSETTO:+0100
TZNAME:CET
DTSTART:20241027T010000
END:STANDARD
BEGIN:DAYLIGHT
TZOFFSETFROM:+0100
TZOFFSETTO:+0200
TZNAME:CEST
DTSTART:20250330T010000
END:DAYLIGHT
BEGIN:STANDARD
TZOFFSETFROM:+0200
TZOFFSETTO:+0100
TZNAME:CET
DTSTART:20251026T010000
END:STANDARD
BEGIN:DAYLIGHT
TZOFFSETFROM:+0100
TZOFFSETTO:+0200
TZNAME:CEST
DTSTART:20260329T010000
END:DAYLIGHT
BEGIN:STANDARD
TZOFFSETFROM:+0200
TZOFFSETTO:+0100
TZNAME:CET
DTSTART:20261025T010000
END:STANDARD
BEGIN:DAYLIGHT
TZOFFSETFROM:+0100
TZOFFSETTO:+0200
TZNAME:CEST
DTSTART:20270328T010000
END:DAYLIGHT
BEGIN:STANDARD
TZOFFSETFROM:+0200
TZOFFSETTO:+0100
TZNAME:CET
DTSTART:20271031T010000
END:STANDARD
END:VTIMEZONE
BEGIN:VEVENT
DTSTART;VALUE=DATE:20251223
DTEND;VALUE=DATE:20260108
DTSTAMP:20260423T133429
CREATED:20251217T193758Z
LAST-MODIFIED:20251217T193758Z
UID:2390-1766448000-1767830399@mattipergliscacchi.it
SUMMARY:AVVISO VACANZE
DESCRIPTION:🎄 AVVISO VACANZE 🎄\nLe attività saranno regolarmente svolte sino a lunedì 22 dicembre compreso\, con la nostra speciale Tombola! \n📌 IL NOSTRO CALENDARIO: \n🎅 Pausa Natale \n🏆 Lunedì 29 e Martedì 30 Dicembre: Riprendiamo con il Torneo di Fine Anno \n🎆 Pausa Capodanno \n🎭 Torneo pre-Befana \n🚀 RIPRESA LABORATORI: Tutte le attività riprenderanno regolarmente Mercoledì 7 Gennaio 2026.
URL:https://mattipergliscacchi.it/calendario/avviso-vacanze/
LOCATION:Palermo
ATTACH;FMTTYPE=image/jpeg:https://mattipergliscacchi.it/wp-content/uploads/2025/12/Scacchi_logo_sito.jpg
END:VEVENT
BEGIN:VEVENT
DTSTART;VALUE=DATE:20251227
DTEND;VALUE=DATE:20251230
DTSTAMP:20260423T133429
CREATED:20251223T064946Z
LAST-MODIFIED:20251224T095445Z
UID:2402-1766793600-1767052799@mattipergliscacchi.it
SUMMARY:OLGA ZIMINA IN SICILIA
DESCRIPTION:La regina degli scacchi approda in Sicilia: Olga Zimina sfida il territorio tra Termini Imerese e Palermo \nIl “mondo delle 64 case” si prepara a vivere un momento storico per la provincia di Palermo: la campionessa italiana Olga Zimina sarà la protagonista assoluta di una serie di eventi imperdibili tra il 27 e il 29 dicembre. L’appuntamento clou avrà luogo in Pizza Duomo a Termini Imerese il 27 dicembre\, con la simultanea a partire dalle ore 16.30\, dove la più forte giocatrice d’Italia incontrerà la cittadinanza per una spettacolare sfida in simultanea contro i giocatori locali. \nQuesta iniziativa\, resa possibile dal contributo della Città Metropolitana di Palermo\, non è solo una celebrazione sportiva\, ma segna l’inizio di un nuovo capitolo per la comunità: l’occasione vedrà infatti l’inaugurazione di una nuova sede scacchistica a Termini Imerese\, frutto della collaborazione tra l’associazione Turismosicilia e il progetto “Crisciranni”\, con la collaborazione tecnica-sportiva dell’ASD “Matti per gli scacchi”. L’iniziativa si inserisce in un tessuto sociale vibrante dove gli scacchi diventano protagonisti di inclusione e crescita\, grazie anche alla partnership consolidata con la Cooperativa “Luna Nuova”. \nDopo il sabato pomeriggio trascorso a Termini Imerese\, il tour della campionessa proseguirà nel capoluogo siciliano. Gli appassionati e i curiosi avranno l’opportunità di partecipare a uno stage aperto a tutti presso la sede operativa di Turismosicilia\, in via De Gasperi 53 a Palermo\, domenica 28 dicembre (dalle 10.00 alle 13.00) e lunedì 29 dicembre (dalle 10.00 alle 14.00). Durante queste sessioni\, Olga Zimina illustrerà le strategie e le analisi delle sue partite più significative giocate durante l’ultimo campionato italiano. Un momento di particolare interesse tecnico sarà l’analisi della partita vinta contro Marina Brunello\, attualmente la seconda giocatrice più forte in Italia. È un’occasione unica per intervistare\, osservare da vicino e persino sfidare una leggenda vivente dello sport mentale italiano\, scoprendo i segreti che si celano dietro ogni mossa vincente.
URL:https://mattipergliscacchi.it/calendario/olga-zimina-in-sicilia/
LOCATION:Palermo
ATTACH;FMTTYPE=image/jpeg:https://mattipergliscacchi.it/wp-content/uploads/2025/12/olga-zimina-in-sicilia.jpeg
END:VEVENT
END:VCALENDAR