BEGIN:VCALENDAR
VERSION:2.0
PRODID:-//Matti per gli Scacchi ASD Palermo - ECPv6.15.11//NONSGML v1.0//EN
CALSCALE:GREGORIAN
METHOD:PUBLISH
X-WR-CALNAME:Matti per gli Scacchi ASD Palermo
X-ORIGINAL-URL:https://mattipergliscacchi.it
X-WR-CALDESC:Eventi per Matti per gli Scacchi ASD Palermo
REFRESH-INTERVAL;VALUE=DURATION:PT1H
X-Robots-Tag:noindex
X-PUBLISHED-TTL:PT1H
BEGIN:VTIMEZONE
TZID:Europe/Rome
BEGIN:DAYLIGHT
TZOFFSETFROM:+0100
TZOFFSETTO:+0200
TZNAME:CEST
DTSTART:20240331T010000
END:DAYLIGHT
BEGIN:STANDARD
TZOFFSETFROM:+0200
TZOFFSETTO:+0100
TZNAME:CET
DTSTART:20241027T010000
END:STANDARD
BEGIN:DAYLIGHT
TZOFFSETFROM:+0100
TZOFFSETTO:+0200
TZNAME:CEST
DTSTART:20250330T010000
END:DAYLIGHT
BEGIN:STANDARD
TZOFFSETFROM:+0200
TZOFFSETTO:+0100
TZNAME:CET
DTSTART:20251026T010000
END:STANDARD
BEGIN:DAYLIGHT
TZOFFSETFROM:+0100
TZOFFSETTO:+0200
TZNAME:CEST
DTSTART:20260329T010000
END:DAYLIGHT
BEGIN:STANDARD
TZOFFSETFROM:+0200
TZOFFSETTO:+0100
TZNAME:CET
DTSTART:20261025T010000
END:STANDARD
END:VTIMEZONE
BEGIN:VEVENT
DTSTART;TZID=Europe/Rome:20250516T140000
DTEND;TZID=Europe/Rome:20250516T193000
DTSTAMP:20260419T144925
CREATED:20250408T125318Z
LAST-MODIFIED:20250408T125318Z
UID:1818-1747404000-1747423800@mattipergliscacchi.it
SUMMARY:TORNEO GIOVANILE VALIDO PER LA QUALIFICAZIONE AL CIG 2025
DESCRIPTION:Si disputeranno tornei separati con un minimo di 6 partecipanti per fascia d’età e genere con accorpamento\, ove necessario\, dei tornei Assoluti e Femminili o accorpamento alle fasce d’età contigue. \nSi qualifica alla fase finale nazionale il 10% di ogni fascia d’età per genere\, maschile e femminile.
URL:https://mattipergliscacchi.it/calendario/torneo-giovanile-valido-per-la-qualificazione-al-cig-2025/
LOCATION:Matti per gli Scacchi ASD Palermo\, Via Alcide De Gasperi 53\, Palermo\, Palermo\, 90146\, Italy
ATTACH;FMTTYPE=image/jpeg:https://mattipergliscacchi.it/wp-content/uploads/2025/04/PHOTO-2025-04-08-11-09-50.jpg
END:VEVENT
END:VCALENDAR