BEGIN:VCALENDAR
VERSION:2.0
PRODID:-//Matti per gli Scacchi ASD Palermo - ECPv6.15.11//NONSGML v1.0//EN
CALSCALE:GREGORIAN
METHOD:PUBLISH
X-ORIGINAL-URL:https://mattipergliscacchi.it
X-WR-CALDESC:Eventi per Matti per gli Scacchi ASD Palermo
REFRESH-INTERVAL;VALUE=DURATION:PT1H
X-Robots-Tag:noindex
X-PUBLISHED-TTL:PT1H
BEGIN:VTIMEZONE
TZID:Europe/Rome
BEGIN:DAYLIGHT
TZOFFSETFROM:+0100
TZOFFSETTO:+0200
TZNAME:CEST
DTSTART:20240331T010000
END:DAYLIGHT
BEGIN:STANDARD
TZOFFSETFROM:+0200
TZOFFSETTO:+0100
TZNAME:CET
DTSTART:20241027T010000
END:STANDARD
BEGIN:DAYLIGHT
TZOFFSETFROM:+0100
TZOFFSETTO:+0200
TZNAME:CEST
DTSTART:20250330T010000
END:DAYLIGHT
BEGIN:STANDARD
TZOFFSETFROM:+0200
TZOFFSETTO:+0100
TZNAME:CET
DTSTART:20251026T010000
END:STANDARD
BEGIN:DAYLIGHT
TZOFFSETFROM:+0100
TZOFFSETTO:+0200
TZNAME:CEST
DTSTART:20260329T010000
END:DAYLIGHT
BEGIN:STANDARD
TZOFFSETFROM:+0200
TZOFFSETTO:+0100
TZNAME:CET
DTSTART:20261025T010000
END:STANDARD
END:VTIMEZONE
BEGIN:VEVENT
DTSTART;TZID=Europe/Rome:20250222T103000
DTEND;TZID=Europe/Rome:20250222T103000
DTSTAMP:20260423T151845
CREATED:20250218T105053Z
LAST-MODIFIED:20250218T105053Z
UID:1768-1740220200-1740220200@mattipergliscacchi.it
SUMMARY:1° Torneo CARNEVALANDO
DESCRIPTION:5€ per i non iscritti a “Matti per gli Scacchi” \nGratis per gli iscritti a “Matti per gli Scacchi”
URL:https://mattipergliscacchi.it/calendario/1-torneo-carnevalando/
LOCATION:Matti per gli Scacchi ASD Palermo\, Via Alcide De Gasperi 53\, Palermo\, Palermo\, 90146\, Italy
ATTACH;FMTTYPE=application/pdf:https://mattipergliscacchi.it/wp-content/uploads/2025/02/carnevale_2025.pdf
ORGANIZER;CN="Matti per gli scacchi":MAILTO:segreteria@mattipergliscacchi.it
END:VEVENT
END:VCALENDAR