BEGIN:VCALENDAR
VERSION:2.0
PRODID:-//Matti per gli Scacchi ASD Palermo - ECPv6.15.11//NONSGML v1.0//EN
CALSCALE:GREGORIAN
METHOD:PUBLISH
X-ORIGINAL-URL:https://mattipergliscacchi.it
X-WR-CALDESC:Eventi per Matti per gli Scacchi ASD Palermo
REFRESH-INTERVAL;VALUE=DURATION:PT1H
X-Robots-Tag:noindex
X-PUBLISHED-TTL:PT1H
BEGIN:VTIMEZONE
TZID:Europe/Rome
BEGIN:DAYLIGHT
TZOFFSETFROM:+0100
TZOFFSETTO:+0200
TZNAME:CEST
DTSTART:20240331T010000
END:DAYLIGHT
BEGIN:STANDARD
TZOFFSETFROM:+0200
TZOFFSETTO:+0100
TZNAME:CET
DTSTART:20241027T010000
END:STANDARD
BEGIN:DAYLIGHT
TZOFFSETFROM:+0100
TZOFFSETTO:+0200
TZNAME:CEST
DTSTART:20250330T010000
END:DAYLIGHT
BEGIN:STANDARD
TZOFFSETFROM:+0200
TZOFFSETTO:+0100
TZNAME:CET
DTSTART:20251026T010000
END:STANDARD
BEGIN:DAYLIGHT
TZOFFSETFROM:+0100
TZOFFSETTO:+0200
TZNAME:CEST
DTSTART:20260329T010000
END:DAYLIGHT
BEGIN:STANDARD
TZOFFSETFROM:+0200
TZOFFSETTO:+0100
TZNAME:CET
DTSTART:20261025T010000
END:STANDARD
END:VTIMEZONE
BEGIN:VEVENT
DTSTART;TZID=Europe/Rome:20250208T153000
DTEND;TZID=Europe/Rome:20250208T153000
DTSTAMP:20260423T113026
CREATED:20250109T113752Z
LAST-MODIFIED:20250109T113752Z
UID:1743-1739028600-1739028600@mattipergliscacchi.it
SUMMARY:8° Rapid FIDE
DESCRIPTION:Sede di gioco: Via Alcide De Gasperi\, 53 Palermo \nOrario d’inizio: ore 15.30 del 08/02/2025 \nContributo d’iscrizione: € 12 per tutti – € 10 per U16 \nObbligatoria preiscrizione su VESUS \nChiusura accredito: ore 15.15 del 8 febbraio 2025 \nRegolamento: Torneo valido per le variazioni ELO FIDE RAPID \n6 turni di gioco – tempo di riflessione:12 minuti +3 secondi \nSpareggi: Buchholtz Cut 1\, Buchholtz Totale\, Incontro Diretto\, A .R.O. \nPremi e rimborsi: \n1°assoluto € 50 + coppa; 2°assoluto: € 40 + coppa; 3° assoluto: € 30 + coppa \nCoppa per il 1° classificato U16\, U14\, U12\, U10 \nCoppa per il più piccolo partecipante
URL:https://mattipergliscacchi.it/calendario/8-rapid-fide/
LOCATION:Matti per gli Scacchi ASD Palermo\, Via Alcide De Gasperi 53\, Palermo\, Palermo\, 90146\, Italy
ATTACH;FMTTYPE=application/pdf:https://mattipergliscacchi.it/wp-content/uploads/2025/01/rapid-8-febbraio.pdf
ORGANIZER;CN="Matti per gli scacchi":MAILTO:segreteria@mattipergliscacchi.it
END:VEVENT
END:VCALENDAR